BEGIN:VCALENDAR
VERSION:2.0
PRODID:-//wp-events-plugin.com//6.4.5.1//EN
BEGIN:VEVENT
UID:331@napsanswact.org.au
DTSTART;TZID=Australia/Sydney:20260618T090000
DTEND;TZID=Australia/Sydney:20260618T140000
DTSTAMP:20251105T023545Z
URL:https://napsanswact.org.au/events/youth-up-front-expo/
SUMMARY:Youth Up Front Expo
DESCRIPTION:Contact: Simone Duggin simone@youthupfront.org.au\n\nwww.youthu
 pfront.org.au
CATEGORIES:Career Market (Private)
LOCATION:Miramare Gardens\, 48 Myoora Road\, Terrey Hills\, NSW\, 2084\, Au
 stralia
X-APPLE-STRUCTURED-LOCATION;VALUE=URI;X-ADDRESS=48 Myoora Road\, Terrey Hil
 ls\, NSW\, 2084\, Australia;X-APPLE-RADIUS=100;X-TITLE=Miramare Gardens:ge
 o:0,0
END:VEVENT
BEGIN:VTIMEZONE
TZID:Australia/Sydney
X-LIC-LOCATION:Australia/Sydney
BEGIN:STANDARD
DTSTART:20260405T020000
TZOFFSETFROM:+1100
TZOFFSETTO:+1000
TZNAME:AEST
END:STANDARD
END:VTIMEZONE
END:VCALENDAR