BEGIN:VCALENDAR
VERSION:2.0
PRODID:-//wp-events-plugin.com//6.4.5.1//EN
BEGIN:VEVENT
UID:329@napsanswact.org.au
DTSTART;TZID=Australia/Sydney:20260611T000000
DTEND;TZID=Australia/Sydney:20260611T000000
DTSTAMP:20251105T023307Z
URL:https://napsanswact.org.au/events/wagga-tertiary-awareness-day-3/
SUMMARY:Wagga Tertiary Awareness Day
DESCRIPTION:Contact: Katie Friedlieb Katie.Friedlieb@det.nsw.edu.au\n\nhttp
 s://www.alburywodongacareersadvisersassociation.com/riverina-careers-expo
CATEGORIES:Career Market (Private)
LOCATION:The Range - ACTA Convention Centre\, 308 Copeland Street\, East Wa
 gga\, NSW\, 2650\, Australia
X-APPLE-STRUCTURED-LOCATION;VALUE=URI;X-ADDRESS=308 Copeland Street\, East 
 Wagga\, NSW\, 2650\, Australia;X-APPLE-RADIUS=100;X-TITLE=The Range - ACTA
  Convention Centre:geo:0,0
END:VEVENT
BEGIN:VTIMEZONE
TZID:Australia/Sydney
X-LIC-LOCATION:Australia/Sydney
BEGIN:STANDARD
DTSTART:20260405T020000
TZOFFSETFROM:+1100
TZOFFSETTO:+1000
TZNAME:AEST
END:STANDARD
END:VTIMEZONE
END:VCALENDAR