BEGIN:VCALENDAR
VERSION:2.0
PRODID:-//wp-events-plugin.com//6.4.5.1//EN
BEGIN:VEVENT
UID:308@napsanswact.org.au
DTSTART;TZID=Australia/Sydney:20260514T090000
DTEND;TZID=Australia/Sydney:20260514T150000
DTSTAMP:20251105T020342Z
URL:https://napsanswact.org.au/events/victorian-careers-show-2/
SUMMARY:Victorian Careers Show
DESCRIPTION:Contact: Tina Tolich tina@resourcesforcourses.com.au
CATEGORIES:Career Market (Private)
LOCATION:Exhibition Pavilion 1\, Melbourne Showgrounds\, Epsom Rd\, Ascot V
 ale\, VIC\, 3032\, Australia
X-APPLE-STRUCTURED-LOCATION;VALUE=URI;X-ADDRESS=Epsom Rd\, Ascot Vale\, VIC
 \, 3032\, Australia;X-APPLE-RADIUS=100;X-TITLE=Exhibition Pavilion 1\, Mel
 bourne Showgrounds:geo:0,0
END:VEVENT
BEGIN:VTIMEZONE
TZID:Australia/Sydney
X-LIC-LOCATION:Australia/Sydney
BEGIN:STANDARD
DTSTART:20260405T020000
TZOFFSETFROM:+1100
TZOFFSETTO:+1000
TZNAME:AEST
END:STANDARD
END:VTIMEZONE
END:VCALENDAR