BEGIN:VCALENDAR
VERSION:2.0
PRODID:-//wp-events-plugin.com//6.4.5.1//EN
BEGIN:VEVENT
UID:375@napsanswact.org.au
DTSTART;TZID=Australia/Sydney:20260725T100000
DTEND;TZID=Australia/Sydney:20260725T143000
DTSTAMP:20260412T223946Z
URL:https://napsanswact.org.au/events/university-of-wollongong/
SUMMARY:University of Wollongong
DESCRIPTION:UOW Liverpool Open Day | Saturday 25 July at UOW Liverpool Camp
 us\, Civic Place from 10:30am-2:30pm\, link to register: https://www.uow.e
 du.au/openday/
CATEGORIES:Careers Advisers
END:VEVENT
BEGIN:VTIMEZONE
TZID:Australia/Sydney
X-LIC-LOCATION:Australia/Sydney
BEGIN:STANDARD
DTSTART:20260405T020000
TZOFFSETFROM:+1100
TZOFFSETTO:+1000
TZNAME:AEST
END:STANDARD
END:VTIMEZONE
END:VCALENDAR