BEGIN:VCALENDAR
VERSION:2.0
PRODID:-//wp-events-plugin.com//6.4.5.1//EN
BEGIN:VEVENT
UID:374@napsanswact.org.au
DTSTART;TZID=Australia/Sydney:20260627T100000
DTEND;TZID=Australia/Sydney:20260627T150000
DTSTAMP:20260412T224533Z
URL:https://napsanswact.org.au/events/university-of-wollongong-open-day-2/
SUMMARY:University of Wollongong Open Day
DESCRIPTION:UOW: Wollongong Open Day | on Saturday the 27th of June from 1
 0am-3pm at the Wollongong campus\, link to register: https://www.uow.edu.
 au/openday/.\n\nUOW: Liverpool Open Day | Saturday 25 July at UOW Liverpoo
 l Campus\, Civic Place from 10:30am-2:30pm\, link to register: https://www
 .uow.edu.au/openday/
CATEGORIES:Careers Advisers
END:VEVENT
BEGIN:VTIMEZONE
TZID:Australia/Sydney
X-LIC-LOCATION:Australia/Sydney
BEGIN:STANDARD
DTSTART:20260405T020000
TZOFFSETFROM:+1100
TZOFFSETTO:+1000
TZNAME:AEST
END:STANDARD
END:VTIMEZONE
END:VCALENDAR