BEGIN:VCALENDAR
VERSION:2.0
PRODID:-//wp-events-plugin.com//6.4.5.1//EN
BEGIN:VEVENT
UID:373@napsanswact.org.au
DTSTART;TZID=Australia/Sydney:20260829T100000
DTEND;TZID=Australia/Sydney:20260829T140000
DTSTAMP:20260409T023503Z
URL:https://napsanswact.org.au/events/university-of-newcastle-open-days-2/
SUMMARY:University of Newcastle Open Days
DESCRIPTION:University of Newcastle Open Days\n\nNewcastle – Saturday 15 
 August 2026\, 9am-3pm\n\nCentral Coast – Saturday 29 August 2026\, 10am-
 2pm\n\nMore info available here: Open Days / The University of Newcastle\
 , Australia
CATEGORIES:Careers Advisers
END:VEVENT
BEGIN:VTIMEZONE
TZID:Australia/Sydney
X-LIC-LOCATION:Australia/Sydney
BEGIN:STANDARD
DTSTART:20260405T020000
TZOFFSETFROM:+1100
TZOFFSETTO:+1000
TZNAME:AEST
END:STANDARD
END:VTIMEZONE
END:VCALENDAR