BEGIN:VCALENDAR
VERSION:2.0
PRODID:-//wp-events-plugin.com//6.4.5.1//EN
BEGIN:VEVENT
UID:341@napsanswact.org.au
DTSTART;TZID=Australia/Sydney:20260730T090000
DTEND;TZID=Australia/Sydney:20260730T140000
DTSTAMP:20251105T024920Z
URL:https://napsanswact.org.au/events/taree-career-quip/
SUMMARY:Taree Career Quip
DESCRIPTION:Contact: Corrie O'Brien O'Brien@tareeuni.org.au or Evan Weller 
 Corrie  Evan.Weller@tareeuni.org.au
END:VEVENT
BEGIN:VTIMEZONE
TZID:Australia/Sydney
X-LIC-LOCATION:Australia/Sydney
BEGIN:STANDARD
DTSTART:20260405T020000
TZOFFSETFROM:+1100
TZOFFSETTO:+1000
TZNAME:AEST
END:STANDARD
END:VTIMEZONE
END:VCALENDAR