BEGIN:VCALENDAR
VERSION:2.0
PRODID:-//wp-events-plugin.com//6.4.5.1//EN
BEGIN:VEVENT
UID:306@napsanswact.org.au
DTSTART;TZID=Australia/Sydney:20260513T150000
DTEND;TZID=Australia/Sydney:20260513T183000
DTSTAMP:20251105T015638Z
URL:https://napsanswact.org.au/events/st-gregorys-college-campbelltown/
SUMMARY:St Gregory's College\, Campbelltown
DESCRIPTION:Contact: Michael Ivancic MIvancic@stgregs.nsw.edu.au
CATEGORIES:Career Market (Private)
LOCATION:St Gregory's College Senior Campus\, 100 Badgally Rd\, Gregory Hil
 ls\, NSW\, 2557\, Australia
X-APPLE-STRUCTURED-LOCATION;VALUE=URI;X-ADDRESS=100 Badgally Rd\, Gregory H
 ills\, NSW\, 2557\, Australia;X-APPLE-RADIUS=100;X-TITLE=St Gregory's Coll
 ege Senior Campus:geo:0,0
END:VEVENT
BEGIN:VTIMEZONE
TZID:Australia/Sydney
X-LIC-LOCATION:Australia/Sydney
BEGIN:STANDARD
DTSTART:20260405T020000
TZOFFSETFROM:+1100
TZOFFSETTO:+1000
TZNAME:AEST
END:STANDARD
END:VTIMEZONE
END:VCALENDAR