BEGIN:VCALENDAR
VERSION:2.0
PRODID:-//wp-events-plugin.com//6.4.5.1//EN
BEGIN:VEVENT
UID:315@napsanswact.org.au
DTSTART;TZID=Australia/Sydney:20260522T000000
DTEND;TZID=Australia/Sydney:20260522T000000
DTSTAMP:20251105T021534Z
URL:https://napsanswact.org.au/events/oxley-college-careers-expo/
SUMMARY:Oxley College Careers Expo
DESCRIPTION:Contact:
CATEGORIES:Career Market (Private)
LOCATION:Oxley College\, 11-29 Railway Rd\, Burradoo\, NSW\, 2576\, Austral
 ia
X-APPLE-STRUCTURED-LOCATION;VALUE=URI;X-ADDRESS=11-29 Railway Rd\, Burradoo
 \, NSW\, 2576\, Australia;X-APPLE-RADIUS=100;X-TITLE=Oxley College:geo:0,0
END:VEVENT
BEGIN:VTIMEZONE
TZID:Australia/Sydney
X-LIC-LOCATION:Australia/Sydney
BEGIN:STANDARD
DTSTART:20260405T020000
TZOFFSETFROM:+1100
TZOFFSETTO:+1000
TZNAME:AEST
END:STANDARD
END:VTIMEZONE
END:VCALENDAR