BEGIN:VCALENDAR
VERSION:2.0
PRODID:-//wp-events-plugin.com//6.4.5.1//EN
BEGIN:VEVENT
UID:350@napsanswact.org.au
DTSTART;TZID=Australia/Sydney:20260505T090000
DTEND;TZID=Australia/Sydney:20260506T170000
DTSTAMP:20251120T025937Z
URL:https://napsanswact.org.au/events/illawarra-careers-expo/
SUMMARY:Illawarra Careers Expo
DESCRIPTION:Contact: Rebecca Ellis  rebecca@iswlp.org.au
CATEGORIES:Career Market (Private)
LOCATION:Illawarra Sports Stadium\, Fred Finch Park\, 22 Hooka Creek Rd\, B
 erkeley\, NSW\, 2506\, Australia
X-APPLE-STRUCTURED-LOCATION;VALUE=URI;X-ADDRESS=Fred Finch Park\, 22 Hooka 
 Creek Rd\, Berkeley\, NSW\, 2506\, Australia;X-APPLE-RADIUS=100;X-TITLE=Il
 lawarra Sports Stadium:geo:0,0
END:VEVENT
BEGIN:VTIMEZONE
TZID:Australia/Sydney
X-LIC-LOCATION:Australia/Sydney
BEGIN:STANDARD
DTSTART:20260405T020000
TZOFFSETFROM:+1100
TZOFFSETTO:+1000
TZNAME:AEST
END:STANDARD
END:VTIMEZONE
END:VCALENDAR