BEGIN:VCALENDAR
VERSION:2.0
PRODID:-//wp-events-plugin.com//6.4.5.1//EN
BEGIN:VEVENT
UID:371@napsanswact.org.au
DTSTART;TZID=Australia/Sydney:20260808T093000
DTEND;TZID=Australia/Sydney:20260808T153000
DTSTAMP:20260407T051954Z
URL:https://napsanswact.org.au/events/aftrs-open-day/
SUMMARY:AFTRS Open Day
DESCRIPTION:AFTRS Open Day\nSaturday 8 August\, 9.30am-3.30pm\nAustralian F
 ilm Television and Radio School\, Building 130\, The Entertainment Quarter
  Moore Park\, NSW 2021\nhttps://www.aftrs.edu.au/event/aftrs-open-day-2026
 /
CATEGORIES:Careers Advisers
END:VEVENT
BEGIN:VTIMEZONE
TZID:Australia/Sydney
X-LIC-LOCATION:Australia/Sydney
BEGIN:STANDARD
DTSTART:20260405T020000
TZOFFSETFROM:+1100
TZOFFSETTO:+1000
TZNAME:AEST
END:STANDARD
END:VTIMEZONE
END:VCALENDAR